BEGIN:VCALENDAR
VERSION:2.0
PRODID:-//wp-events-plugin.com//5.99912//EN
TZID:Europe/Berlin
X-WR-TIMEZONE:Europe/Berlin
BEGIN:VEVENT
UID:0-250@weilersteusslingen.albverein.eu
DTSTART;TZID=Europe/Berlin:20261018T110000
DTEND;TZID=Europe/Berlin:20261018T150000
DTSTAMP:20251004T114431Z
URL:https://weilersteusslingen.albverein.eu/events/lammessen-3/
SUMMARY:Lammessen
DESCRIPTION:
LOCATION:Gasthof Hasen Ennahofen\, Hagäcker 8\, Allmendingen / Ennahofen\,
  89604\, Deutschland
GEO:48.3516793;9.66965719999996
X-APPLE-STRUCTURED-LOCATION;VALUE=URI;X-ADDRESS=Hagäcker 8\, Allmendingen 
 / Ennahofen\, 89604\, Deutschland;X-APPLE-RADIUS=100;X-TITLE=Gasthof Hasen
  Ennahofen:geo:48.3516793,9.66965719999996
END:VEVENT
BEGIN:VTIMEZONE
TZID:Europe/Berlin
X-LIC-LOCATION:Europe/Berlin
BEGIN:DAYLIGHT
DTSTART:20260329T030000
TZOFFSETFROM:+0100
TZOFFSETTO:+0200
TZNAME:CEST
END:DAYLIGHT
END:VTIMEZONE
END:VCALENDAR