BEGIN:VCALENDAR
VERSION:2.0
PRODID:-//wp-events-plugin.com//5.99912//EN
TZID:Europe/Berlin
X-WR-TIMEZONE:Europe/Berlin
BEGIN:VEVENT
UID:0-258@weilersteusslingen.albverein.eu
DTSTART;TZID=Europe/Berlin:20260530T083000
DTEND;TZID=Europe/Berlin:20260530T170000
DTSTAMP:20260331T095505Z
URL:https://weilersteusslingen.albverein.eu/events/erste-hilfe-kurs-outdoo
 r-2/
SUMMARY:Erste Hilfe Kurs "Outdoor"
DESCRIPTION:Jetzt noch schnell zu unserem Erste-Hilfe Kurs Outdoor anmelden
 \n
LOCATION:Bergemer Gemeindehalle\, Schulweg 8\, Weilersteußlingen\, Deutsch
 land
GEO:48.34041;9.655439999999999
X-APPLE-STRUCTURED-LOCATION;VALUE=URI;X-ADDRESS=Schulweg 8\, Weilersteußli
 ngen\, Deutschland;X-APPLE-RADIUS=100;X-TITLE=Bergemer Gemeindehalle:geo:4
 8.34041,9.655439999999999
END:VEVENT
BEGIN:VTIMEZONE
TZID:Europe/Berlin
X-LIC-LOCATION:Europe/Berlin
BEGIN:DAYLIGHT
DTSTART:20260329T030000
TZOFFSETFROM:+0100
TZOFFSETTO:+0200
TZNAME:CEST
END:DAYLIGHT
END:VTIMEZONE
END:VCALENDAR